BEGIN:VCALENDAR
VERSION:2.0
PRODID:-//Strong Heroes - ECPv6.15.20//NONSGML v1.0//EN
CALSCALE:GREGORIAN
METHOD:PUBLISH
X-WR-CALNAME:Strong Heroes
X-ORIGINAL-URL:https://strongheroes.org
X-WR-CALDESC:Events for Strong Heroes
REFRESH-INTERVAL;VALUE=DURATION:PT1H
X-Robots-Tag:noindex
X-PUBLISHED-TTL:PT1H
BEGIN:VTIMEZONE
TZID:UTC
BEGIN:STANDARD
TZOFFSETFROM:+0000
TZOFFSETTO:+0000
TZNAME:UTC
DTSTART:20220101T000000
END:STANDARD
END:VTIMEZONE
BEGIN:VEVENT
DTSTART;VALUE=DATE:20230906
DTEND;VALUE=DATE:20230909
DTSTAMP:20260424T095725
CREATED:20230409T170202Z
LAST-MODIFIED:20230409T170202Z
UID:22366-1693958400-1694217599@strongheroes.org
SUMMARY:2023 Health Equity & Inclusion Conference
DESCRIPTION:The 2023 Health Equity & Inclusion Conference will focus on inclusivity in the health and medical workplace. It will include a certification training on September 12\, with the full conference taking place from September 13 and 14. The theme for this conference will be “Representation Matters.” The conference will bring together prominent members of the healthcare community to recognize inclusivity in the medical field and discuss changes that must take place for the advancement of inclusion in the healthcare system. This three-day event will include presentations\, symposiums\, panels\, training\, and networking events focused on diversity in healthcare. The event is welcome to all healthcare practitioners\, medical professionals\, and students with our goal to raise awareness on the value of diversity and inclusion in the medical world.
URL:https://strongheroes.org/event/2023-health-equity-inclusion-conference/
END:VEVENT
END:VCALENDAR