BEGIN:VCALENDAR
VERSION:2.0
PRODID:-//Strong Heroes - ECPv6.15.20//NONSGML v1.0//EN
CALSCALE:GREGORIAN
METHOD:PUBLISH
X-WR-CALNAME:Strong Heroes
X-ORIGINAL-URL:https://strongheroes.org
X-WR-CALDESC:Events for Strong Heroes
REFRESH-INTERVAL;VALUE=DURATION:PT1H
X-Robots-Tag:noindex
X-PUBLISHED-TTL:PT1H
BEGIN:VTIMEZONE
TZID:UTC
BEGIN:STANDARD
TZOFFSETFROM:+0000
TZOFFSETTO:+0000
TZNAME:UTC
DTSTART:20230101T000000
END:STANDARD
END:VTIMEZONE
BEGIN:VEVENT
DTSTART;TZID=UTC:20240426T080000
DTEND;TZID=UTC:20240428T170000
DTSTAMP:20260424T095828
CREATED:20230926T005239Z
LAST-MODIFIED:20230926T005239Z
UID:24444-1714118400-1714323600@strongheroes.org
SUMMARY:2024 Summit on Cancer Health Disparities
DESCRIPTION:This annual health equity conference is one of the largest gatherings of cancer care professionals interested in cancer health disparities with a focus on achieving health equity. The 2024 Summit will feature lectures\, panel discussions\, and debates among leaders across the spectrum of cancer care delivery. This conference will bring together oncology professionals\, cancer disparity researchers\, and other stakeholders to discuss factors leading to cancer health disparities. A focus of the conference is to explore how these factors can be mitigated to optimize the outcomes of cancer patients.
URL:https://strongheroes.org/event/2024-summit-on-cancer-health-disparities/
LOCATION:Grand Hyatt Seattle\, 721 Pine Street\, Seattle\, WA\, United States
END:VEVENT
END:VCALENDAR