BEGIN:VCALENDAR
VERSION:2.0
PRODID:-//Strong Heroes - ECPv6.15.20//NONSGML v1.0//EN
CALSCALE:GREGORIAN
METHOD:PUBLISH
X-WR-CALNAME:Strong Heroes
X-ORIGINAL-URL:https://strongheroes.org
X-WR-CALDESC:Events for Strong Heroes
REFRESH-INTERVAL;VALUE=DURATION:PT1H
X-Robots-Tag:noindex
X-PUBLISHED-TTL:PT1H
BEGIN:VTIMEZONE
TZID:UTC
BEGIN:STANDARD
TZOFFSETFROM:+0000
TZOFFSETTO:+0000
TZNAME:UTC
DTSTART:20220101T000000
END:STANDARD
END:VTIMEZONE
BEGIN:VEVENT
DTSTART;VALUE=DATE:20230626
DTEND;VALUE=DATE:20230630
DTSTAMP:20260424T114709
CREATED:20230409T165656Z
LAST-MODIFIED:20230409T165910Z
UID:22363-1687737600-1688083199@strongheroes.org
SUMMARY:6th Annual Social Medicine Conference: 2023 Advancing Health Equity Through Social Medicine Practice and Education
DESCRIPTION:Since 2016\, the Social Medicine Conferences have connected leaders\, activists\, educators\, researchers\, policymakers\, and students within and outside the health sector to share best practices in social medicine education\, build critical consciousness\, and pursue global collective action to secure health equity for all.  \nFrom June 26-29\, 2023\, EqualHealth and Mbarara University are proud to host the 6th annual Social Medicine Consortium\, “Advancing Health Equity Through Social Medicine Practice and Education\,” in Mbarara\, Uganda. This year’s conference will give participants an opportunity to analyze the structural and social determinants of health\, as well as collaborate on innovative responses to global illness and inequity.
URL:https://strongheroes.org/event/6th-annual-social-medicine-conference-2023-advancing-health-equity-through-social-medicine-practice-and-education/
LOCATION:Mbarara University\, Mbarara\, Uganda
END:VEVENT
END:VCALENDAR