BEGIN:VCALENDAR
VERSION:2.0
PRODID:-//Strong Heroes - ECPv6.15.20//NONSGML v1.0//EN
CALSCALE:GREGORIAN
METHOD:PUBLISH
X-WR-CALNAME:Strong Heroes
X-ORIGINAL-URL:https://strongheroes.org
X-WR-CALDESC:Events for Strong Heroes
REFRESH-INTERVAL;VALUE=DURATION:PT1H
X-Robots-Tag:noindex
X-PUBLISHED-TTL:PT1H
BEGIN:VTIMEZONE
TZID:UTC
BEGIN:STANDARD
TZOFFSETFROM:+0000
TZOFFSETTO:+0000
TZNAME:UTC
DTSTART:20220101T000000
END:STANDARD
END:VTIMEZONE
BEGIN:VEVENT
DTSTART;TZID=UTC:20231203T080000
DTEND;TZID=UTC:20231205T170000
DTSTAMP:20260424T112549
CREATED:20231106T142432Z
LAST-MODIFIED:20240408T235612Z
UID:24422-1701590400-1701795600@strongheroes.org
SUMMARY:8th Annual National Summit on the Social Determinants of Health
DESCRIPTION:The 8th Annual National Summit on the Social Determinants of Health brings together key stakeholders from health systems\, hospital associations\, foundations\, businesses\, national and community nonprofits\, health insurers\, academic institutions\, local government and policy centers convene to share best practices. To achieve health equity for all\, we must all work together\, across sectors\, to address systemic racism and the social determinants of health.
URL:https://strongheroes.org/event/8th-annual-national-summit-on-the-social-determinants-of-health/
LOCATION:The Loews Kansas City Hotel\, 1515 Wyandotte Street\, Kansas City\, MO\, 64108\, United States
END:VEVENT
END:VCALENDAR