BEGIN:VCALENDAR
VERSION:2.0
PRODID:-//Strong Heroes - ECPv6.15.20//NONSGML v1.0//EN
CALSCALE:GREGORIAN
METHOD:PUBLISH
X-WR-CALNAME:Strong Heroes
X-ORIGINAL-URL:https://strongheroes.org
X-WR-CALDESC:Events for Strong Heroes
REFRESH-INTERVAL;VALUE=DURATION:PT1H
X-Robots-Tag:noindex
X-PUBLISHED-TTL:PT1H
BEGIN:VTIMEZONE
TZID:UTC
BEGIN:STANDARD
TZOFFSETFROM:+0000
TZOFFSETTO:+0000
TZNAME:UTC
DTSTART:20220101T000000
END:STANDARD
END:VTIMEZONE
BEGIN:VEVENT
DTSTART;VALUE=DATE:20230826
DTEND;VALUE=DATE:20230902
DTSTAMP:20260424T095914
CREATED:20230817T021255Z
LAST-MODIFIED:20230817T021255Z
UID:23989-1693008000-1693612799@strongheroes.org
SUMMARY:8th World Congress for Pediatric Cardiology & Cardiac Surgery
DESCRIPTION:8th World Congress is the largest-ever gathering of pediatric cardiologists and related health care professionals focused on research\, practice\, Health Policy and Health Equity. The event\, taking place from August 25 to September 1\, 2023\, in Washington D.C. has over 5\,000 registered attendees and a truly diverse & international faculty of over 925 from 89 countries. It also will have over 2\,000 individual Abstracts & Poster Presenters from over 100 countries.
URL:https://strongheroes.org/event/8th-world-congress-for-pediatric-cardiology-cardiac-surgery/
LOCATION:Marriott Marquis – Washington\, DC\, 901 Massachusetts Ave NW\, Washington\, DC\, 20001
END:VEVENT
END:VCALENDAR