BEGIN:VCALENDAR
VERSION:2.0
PRODID:-//Strong Heroes - ECPv6.15.20//NONSGML v1.0//EN
CALSCALE:GREGORIAN
METHOD:PUBLISH
X-WR-CALNAME:Strong Heroes
X-ORIGINAL-URL:https://strongheroes.org
X-WR-CALDESC:Events for Strong Heroes
REFRESH-INTERVAL;VALUE=DURATION:PT1H
X-Robots-Tag:noindex
X-PUBLISHED-TTL:PT1H
BEGIN:VTIMEZONE
TZID:UTC
BEGIN:STANDARD
TZOFFSETFROM:+0000
TZOFFSETTO:+0000
TZNAME:UTC
DTSTART:20230101T000000
END:STANDARD
END:VTIMEZONE
BEGIN:VEVENT
DTSTART;TZID=UTC:20240507T080000
DTEND;TZID=UTC:20240509T170000
DTSTAMP:20260424T095531
CREATED:20230925T230301Z
LAST-MODIFIED:20230925T230301Z
UID:24425-1715068800-1715274000@strongheroes.org
SUMMARY:Accelerating Health Equity Conference
DESCRIPTION:The Accelerating Health Equity Conference brings together professionals focused on improving community and population health and building partnerships\, and professionals striving to advance diversity and inclusion within hospital management and executive levels.
URL:https://strongheroes.org/event/accelerating-health-equity-conference-2/
END:VEVENT
END:VCALENDAR