BEGIN:VCALENDAR
VERSION:2.0
PRODID:-//Strong Heroes - ECPv6.15.20//NONSGML v1.0//EN
CALSCALE:GREGORIAN
METHOD:PUBLISH
X-WR-CALNAME:Strong Heroes
X-ORIGINAL-URL:https://strongheroes.org
X-WR-CALDESC:Events for Strong Heroes
REFRESH-INTERVAL;VALUE=DURATION:PT1H
X-Robots-Tag:noindex
X-PUBLISHED-TTL:PT1H
BEGIN:VTIMEZONE
TZID:UTC
BEGIN:STANDARD
TZOFFSETFROM:+0000
TZOFFSETTO:+0000
TZNAME:UTC
DTSTART:20220101T000000
END:STANDARD
END:VTIMEZONE
BEGIN:VEVENT
DTSTART;TZID=UTC:20230516T080000
DTEND;TZID=UTC:20230518T170000
DTSTAMP:20260424T111859
CREATED:20230305T050022Z
LAST-MODIFIED:20230305T050022Z
UID:21704-1684224000-1684429200@strongheroes.org
SUMMARY:Accelerating Health Equity Conference
DESCRIPTION:A time to connect and collaborate to advance community health\, well-being\, and equity.\nLong-standing health care disparities and inequities still persist. Systemic drivers such as structural racism and economic disadvantages have resulted in disproportionate health outcomes across different patient populations. \nNow is the time to evaluate how far we have come in closing existing gaps\, assess where health care is on the equity journey and take what we have learned to strengthen our organizations and communities through collaborative and innovative work: investing in our neighborhoods and one another. Together we can continue to develop better and more equitable solutions to address barriers that prevent access to high-quality care and improve health outcomes.
URL:https://strongheroes.org/event/accelerating-health-equity-conference/
LOCATION:Hilton Minneapolis\, 1001 S Marquette Ave.\, Minneapolis\, MN\, 55403\, United States
END:VEVENT
END:VCALENDAR