BEGIN:VCALENDAR
VERSION:2.0
PRODID:-//Strong Heroes - ECPv6.15.20//NONSGML v1.0//EN
CALSCALE:GREGORIAN
METHOD:PUBLISH
X-WR-CALNAME:Strong Heroes
X-ORIGINAL-URL:https://strongheroes.org
X-WR-CALDESC:Events for Strong Heroes
REFRESH-INTERVAL;VALUE=DURATION:PT1H
X-Robots-Tag:noindex
X-PUBLISHED-TTL:PT1H
BEGIN:VTIMEZONE
TZID:UTC
BEGIN:STANDARD
TZOFFSETFROM:+0000
TZOFFSETTO:+0000
TZNAME:UTC
DTSTART:20220101T000000
END:STANDARD
END:VTIMEZONE
BEGIN:VEVENT
DTSTART;VALUE=DATE:20230420
DTEND;VALUE=DATE:20230423
DTSTAMP:20260424T114116
CREATED:20230305T203846Z
LAST-MODIFIED:20230305T203846Z
UID:21744-1681948800-1682207999@strongheroes.org
SUMMARY:LGBT Health Workforce Conference
DESCRIPTION:The LGBT Health Workforce Conference is the largest and most well known national LGBT health workforce conference in the United States held annually in New York City.  The conference provides an overview of up-to-date practices (climate\, educational\, research\, and clinical) in preparing the health care workforce to address the health concerns and disparities of lesbian\, gay\, bisexual\, and transgender (LGBT) communities.  This conference is designed for health professionals (M.D.\, D.O.\, P.A.-C.\, R.N.\, N.P.\, D.D.\, social workers\, psychologists\, etc.)\, educators\, and students (pre-health professions\, professional schools\, and graduate)\, but all interested are invited to attend. CME credit will be available.
URL:https://strongheroes.org/event/lgbt-health-workforce-conference/
LOCATION:New York City
END:VEVENT
END:VCALENDAR