BEGIN:VCALENDAR
VERSION:2.0
PRODID:-//Strong Heroes - ECPv6.15.20//NONSGML v1.0//EN
CALSCALE:GREGORIAN
METHOD:PUBLISH
X-WR-CALNAME:Strong Heroes
X-ORIGINAL-URL:https://strongheroes.org
X-WR-CALDESC:Events for Strong Heroes
REFRESH-INTERVAL;VALUE=DURATION:PT1H
X-Robots-Tag:noindex
X-PUBLISHED-TTL:PT1H
BEGIN:VTIMEZONE
TZID:UTC
BEGIN:STANDARD
TZOFFSETFROM:+0000
TZOFFSETTO:+0000
TZNAME:UTC
DTSTART:20230101T000000
END:STANDARD
END:VTIMEZONE
BEGIN:VEVENT
DTSTART;TZID=UTC:20240415T080000
DTEND;TZID=UTC:20240417T170000
DTSTAMP:20260424T095931
CREATED:20230925T230732Z
LAST-MODIFIED:20230925T230732Z
UID:24427-1713168000-1713373200@strongheroes.org
SUMMARY:The RISE Summit on Social Determinants of Health
DESCRIPTION:The RISE Summit on Social Determinants of Health is the place for cross-sectional thought leaders to discuss actionable\, tactical\, and scalable solutions to social determinants of health (SDoH) challenges and achieve better outcomes for the most vulnerable populations.   
URL:https://strongheroes.org/event/the-rise-summit-on-social-determinants-of-health/
LOCATION:Hyatt Regency New Orleans\, 601 Loyola Avenue\, New Orleans\, LA\, 70113\, United States
END:VEVENT
END:VCALENDAR