BEGIN:VCALENDAR
VERSION:2.0
PRODID:-//Strong Heroes - ECPv6.15.20//NONSGML v1.0//EN
CALSCALE:GREGORIAN
METHOD:PUBLISH
X-ORIGINAL-URL:https://strongheroes.org
X-WR-CALDESC:Events for Strong Heroes
REFRESH-INTERVAL;VALUE=DURATION:PT1H
X-Robots-Tag:noindex
X-PUBLISHED-TTL:PT1H
BEGIN:VTIMEZONE
TZID:UTC
BEGIN:STANDARD
TZOFFSETFROM:+0000
TZOFFSETTO:+0000
TZNAME:UTC
DTSTART:20220101T000000
END:STANDARD
END:VTIMEZONE
BEGIN:VEVENT
DTSTART;VALUE=DATE:20230810
DTEND;VALUE=DATE:20230813
DTSTAMP:20260424T095542
CREATED:20230409T163700Z
LAST-MODIFIED:20230409T163700Z
UID:10000015-1691625600-1691884799@strongheroes.org
SUMMARY:RISE for Health Equity: Reflect\, Inspire\, Strengthen & Empower 2023
DESCRIPTION:Prioritizing and addressing diversity\, equity and inclusion in workforce development and organizational culture is essential to providing optimal patient care\, achieving health equity\, and attracting and engaging the workforce of the future. Participants will join a national healthcare dialogue on this important subject and explore evidence-based solutions and innovative initiatives. Keynote presentations by leading experts and panel discussions cover health disparities\, digital equity and much more.
URL:https://strongheroes.org/event/rise-for-health-equity-reflect-inspire-strengthen-empower-2023/
LOCATION:Hyatt Regency Minneapolis\, 1300 Nicollet Mall\, Minneapolis\, MN\, 55403
END:VEVENT
BEGIN:VEVENT
DTSTART;VALUE=DATE:20230723
DTEND;VALUE=DATE:20230727
DTSTAMP:20260424T095542
CREATED:20230409T172321Z
LAST-MODIFIED:20230409T172321Z
UID:10000022-1690070400-1690415999@strongheroes.org
SUMMARY:2023 Health Equity Conference on Transformation of Elevating Care\, Clinicians & Communities
DESCRIPTION:Join the Association of Clinicians for the Underserved at our 2023 Conference\, “Transformation: Elevating Care\, Clinicians\, & Communities!” From July 23-26 at the Marriott Marquis in the heart of Washington\, D.C.\, our Conference will unite hundreds of healthcare clinicians\, administrators\, advocates\, and public health leaders from across the U.S.\, all with an interest in expanding access to care and improving healthcare delivery for medically underserved populations. \nThis year’s Conference theme and its three tracks spotlight the need to ensure high-quality\, accessible\, and inclusive care for all (clinical practice)\, to support and elevate our healthcare workforce (workforce)\, and to advance health equity in historically marginalized populations (emerging issues).
URL:https://strongheroes.org/event/2023-health-equity-conference-on-transformation-of-elevating-care-clinicians-communities/
LOCATION:Marriott Marquis – Washington\, DC\, 901 Massachusetts Ave NW\, Washington\, DC\, 20001
END:VEVENT
BEGIN:VEVENT
DTSTART;VALUE=DATE:20230626
DTEND;VALUE=DATE:20230630
DTSTAMP:20260424T095542
CREATED:20230409T165656Z
LAST-MODIFIED:20230409T165910Z
UID:10000018-1687737600-1688083199@strongheroes.org
SUMMARY:6th Annual Social Medicine Conference: 2023 Advancing Health Equity Through Social Medicine Practice and Education
DESCRIPTION:Since 2016\, the Social Medicine Conferences have connected leaders\, activists\, educators\, researchers\, policymakers\, and students within and outside the health sector to share best practices in social medicine education\, build critical consciousness\, and pursue global collective action to secure health equity for all.  \nFrom June 26-29\, 2023\, EqualHealth and Mbarara University are proud to host the 6th annual Social Medicine Consortium\, “Advancing Health Equity Through Social Medicine Practice and Education\,” in Mbarara\, Uganda. This year’s conference will give participants an opportunity to analyze the structural and social determinants of health\, as well as collaborate on innovative responses to global illness and inequity.
URL:https://strongheroes.org/event/6th-annual-social-medicine-conference-2023-advancing-health-equity-through-social-medicine-practice-and-education/
LOCATION:Mbarara University\, Mbarara\, Uganda
END:VEVENT
BEGIN:VEVENT
DTSTART;VALUE=DATE:20230620
DTEND;VALUE=DATE:20230623
DTSTAMP:20260424T095542
CREATED:20230409T181024Z
LAST-MODIFIED:20230409T181127Z
UID:10000024-1687219200-1687478399@strongheroes.org
SUMMARY:11th Annual Diversity\, Inclusion & Health Equity Symposium
DESCRIPTION:The 11th Annual Diversity\, Inclusion\, & Health Equity Symposium is one of the country’s leading and longest-running events focusing specifically on health equity\, health disparities\, and critical diversity\, equity\, and inclusion (DEI) issues impacting healthcare in the U.S. The 3-day hybrid symposium features both live and virtual panel discussions\, keynote addresses\, a career fair\, and networking opportunities. The symposium brings together leading healthcare executives\, physicians\, researchers\, patient groups\, academics\, authors\, clinical trial professionals\, and DEI advocates in a collaborative forum to discuss health equity. The symposium focuses on the latest trends\, challenges\, and opportunities in the marketplace and workplace. Key opinion leaders and symposium participants will discuss new ideas and perspectives on (1) diversifying clinical trials to include underrepresented groups\, (2) developing a diverse workforce and inclusive workplace\, and (3) reducing systemic health disparities that disproportionately affect marginalized communities of color. The symposium also features a career fair that connects participants with many of the country’s leading healthcare organizations specifically focusing on hiring underrepresented talent. This 3-day event also aims to address the broader health disparities that disproportionately impact marginalized communities in the U.S. Participants will learn the latest insights and industry-tested solutions\, share new ideas and perspectives\, and meet new industry and marketplace colleagues.
URL:https://strongheroes.org/event/11th-annual-diversity-inclusion-health-equity-symposium/
LOCATION:Center for Healthcare Innovation\,\, 625 W. Adams Street\, Chicago\, IL\, 60661
END:VEVENT
BEGIN:VEVENT
DTSTART;VALUE=DATE:20230607
DTEND;VALUE=DATE:20230609
DTSTAMP:20260424T095542
CREATED:20230409T163024Z
LAST-MODIFIED:20230409T163024Z
UID:10000014-1686096000-1686268799@strongheroes.org
SUMMARY:2023 CMS Health Equity Conference
DESCRIPTION:The 2023 CMS Health Equity Conference is an inaugural conference that will convene leaders in health equity from federal agencies\, health provider organizations\, academia\, community-based organizations\, and others\, both in person and virtually. The theme of this year’s conference is Framing the Future of Equitable Health Care. Conference attendees will have the opportunity to hear from CMS’s leadership on recent developments and updates on CMS programs\, learn about up-to-date research on health equity\, discuss promising practices and innovative solutions\, and collaborate on community engagement efforts.
URL:https://strongheroes.org/event/2023-cms-health-equity-conference/
LOCATION:Howard University’s Armour J. Blackburn University Center\, 2397 6th St NW\, Washington\, DC\, 20059
END:VEVENT
BEGIN:VEVENT
DTSTART;VALUE=DATE:20230522
DTEND;VALUE=DATE:20230523
DTSTAMP:20260424T095542
CREATED:20230305T050239Z
LAST-MODIFIED:20230305T050239Z
UID:10000004-1684713600-1684799999@strongheroes.org
SUMMARY:15th Annual Healthcare Conference
DESCRIPTION:The 15th Annual Healthcare Conference will assemble over 400 senior Middle Market Healthcare payers\, providers\, systems as well as top private equity\, family office and strategic buyers representing billions of dollars ready to invest in the North American Healthcare Sector. Join us for one-on-one curated deal meetings with investment bankers\, great discussion and quality networking including bourbon tasting hosted by Private Equity Sponsors.
URL:https://strongheroes.org/event/15th-annual-healthcare-conference/
LOCATION:Metropolitan Club of New York\, 1 East 60th Street\, New York\, 10022\, United States
END:VEVENT
BEGIN:VEVENT
DTSTART;VALUE=DATE:20230518
DTEND;VALUE=DATE:20230520
DTSTAMP:20260424T095542
CREATED:20230409T173023Z
LAST-MODIFIED:20230409T173023Z
UID:10000023-1684368000-1684540799@strongheroes.org
SUMMARY:2nd Annual Child Health Equity Summit - 2023
DESCRIPTION:The 2nd Annual Child Health Equity Summit will focus on several Health Equity topics and will offer the following to participants: \n\nProvide attendees with an interactive\, multi-day format designed to foster open dialogue and engagement.\nIntroduce community members with lived expertise in the topic.\nFacilitate drafting a strategic plan to address the adverse social determinants of health in Worcester and beyond.\nEstablish a new Community Advisory Board to guide multi-sector partnerships aimed at driving child health equity advancement.\nEngage attendees in Identifying metrics to track progress.\n\n\n\n\n\nBecome a passionate voice for confronting the adverse social determinants of health\, including poverty and racism\, faced by children in our community. These adverse social determinants of health lead to disparities over the lifetime. \nLearn interactively how multi-sector partnerships can help mitigate the root causes of health inequities\, and acquire the information and tools necessary to strengthen relationships and develop mutually beneficial partnerships.
URL:https://strongheroes.org/event/2nd-annual-child-health-equity-summit-2023/
LOCATION:AC Hotel\, 125 Front Street\, Worcester\, MA\, 01608
END:VEVENT
BEGIN:VEVENT
DTSTART;TZID=UTC:20230516T080000
DTEND;TZID=UTC:20230518T170000
DTSTAMP:20260424T095542
CREATED:20230305T050022Z
LAST-MODIFIED:20230305T050022Z
UID:10000003-1684224000-1684429200@strongheroes.org
SUMMARY:Accelerating Health Equity Conference
DESCRIPTION:A time to connect and collaborate to advance community health\, well-being\, and equity.\nLong-standing health care disparities and inequities still persist. Systemic drivers such as structural racism and economic disadvantages have resulted in disproportionate health outcomes across different patient populations. \nNow is the time to evaluate how far we have come in closing existing gaps\, assess where health care is on the equity journey and take what we have learned to strengthen our organizations and communities through collaborative and innovative work: investing in our neighborhoods and one another. Together we can continue to develop better and more equitable solutions to address barriers that prevent access to high-quality care and improve health outcomes.
URL:https://strongheroes.org/event/accelerating-health-equity-conference/
LOCATION:Hilton Minneapolis\, 1001 S Marquette Ave.\, Minneapolis\, MN\, 55403\, United States
END:VEVENT
BEGIN:VEVENT
DTSTART;TZID=UTC:20230515T080000
DTEND;TZID=UTC:20230516T170000
DTSTAMP:20260424T095542
CREATED:20230305T045542Z
LAST-MODIFIED:20230305T045542Z
UID:10000002-1684137600-1684256400@strongheroes.org
SUMMARY:Health Equity Conference
DESCRIPTION:We’ll see you seaside\nJoin NRHA and rural health leaders from across the country to help raise the standard for rural health with over 80 innovative\, practical\, and cost-saving sessions and much more. \nNRHA’s expanded Health Equity Conference\, one of the only meetings in the nation to focus on health equity issues in rural America\, is May 15-16 in sunny San Diego. \nThis conference is designed for those who are dedicated to bringing quality health care and health care services to underserved and often under-represented populations\, including LGBTQIA+\, veteran\, and homeless rural residents as well as multiracial and multicultural members of rural communities. \n“If you’re interested in actively engaging in transformational work on behalf of rural communities\, NRHA’s annual events are where it’s at.” – NRHA member Peggy Wheeler \nWe are so excited to see everyone in San Diego this spring.
URL:https://strongheroes.org/event/health-equity-conference/
LOCATION:San Diego California\, San Diego\, CA\, United States
END:VEVENT
BEGIN:VEVENT
DTSTART;VALUE=DATE:20230510
DTEND;VALUE=DATE:20230512
DTSTAMP:20260424T095542
CREATED:20230409T162348Z
LAST-MODIFIED:20230409T162348Z
UID:10000013-1683676800-1683849599@strongheroes.org
SUMMARY:2nd Annual Diversity in Clinical Trials Summit
DESCRIPTION:Improving diversity in clinical trials is both an ethical obligation and a scientific necessity. The current lack of diversity presents a challenge in understanding how novel therapies perform across different population subgroups\, hindering progress in reducing disparities and achieving equity. Despite growing awareness of the importance of including diverse patient populations in clinical research\, there is still much work to be done to increase representation of racial and minority ethnic groups in clinical trials. \nThis year’s agenda features new topics requested by prior attendees\, including:  \n• Increasing representation of underrepresented communities in clinical trials\n• Driving for more diverse participation in early drug development\n• Setting clear goals for increasing DE&I in clinical trial enrollment\n• Increasing clinical trial diversity through decentralized studies\n• Standardizing diversity metrics in clinical trials\n• Grasping health literacy as a key component for clinical trial enrollment\n• Improving collaborations with patient advocacy groups\n• Developing a future-ready\, diverse clinical research workforce
URL:https://strongheroes.org/event/2nd-annual-diversity-in-clinical-trials-summit/
LOCATION:The Inn at Penn\, 3600 Sansom St\, Philadelphia\, 19104\, United States
END:VEVENT
BEGIN:VEVENT
DTSTART;VALUE=DATE:20230420
DTEND;VALUE=DATE:20230423
DTSTAMP:20260424T095542
CREATED:20230305T203846Z
LAST-MODIFIED:20230305T203846Z
UID:10000007-1681948800-1682207999@strongheroes.org
SUMMARY:LGBT Health Workforce Conference
DESCRIPTION:The LGBT Health Workforce Conference is the largest and most well known national LGBT health workforce conference in the United States held annually in New York City.  The conference provides an overview of up-to-date practices (climate\, educational\, research\, and clinical) in preparing the health care workforce to address the health concerns and disparities of lesbian\, gay\, bisexual\, and transgender (LGBT) communities.  This conference is designed for health professionals (M.D.\, D.O.\, P.A.-C.\, R.N.\, N.P.\, D.D.\, social workers\, psychologists\, etc.)\, educators\, and students (pre-health professions\, professional schools\, and graduate)\, but all interested are invited to attend. CME credit will be available.
URL:https://strongheroes.org/event/lgbt-health-workforce-conference/
LOCATION:New York City
END:VEVENT
BEGIN:VEVENT
DTSTART;VALUE=DATE:20230418
DTEND;VALUE=DATE:20230420
DTSTAMP:20260424T095542
CREATED:20230305T050455Z
LAST-MODIFIED:20230305T203050Z
UID:10000005-1681776000-1681948799@strongheroes.org
SUMMARY:Employee Health Care Conference
DESCRIPTION:Hear from dynamic speakers from a diverse array of employers share their journeys of redefining health and benefits strategy. Join us for unique perspectives and tangible advice in the following areas: \n\nManaging Employee Mental Health\nEmotional and Social Well-being\nBuilding a Culture of Health and Resilience\nImproving Employee Health and Well-being\nVirtual Care\nEffective Mental Health Strategies\nChronic Condition Care and Management\nMusculoskeletal Care\nData Analytics\nBehavioral-Based Preventative Care\nFertility and Family Building Benefits\nPrimary Care\nHealth Equity\nEngaging Employees and Improving Outcomes with Navigation\nExpert Medical Opinions
URL:https://strongheroes.org/event/employee-health-care-conference/
LOCATION:New York Marriot Maquis\, 1535 Broadway\, New York\, NY\, 10036\, United States
END:VEVENT
BEGIN:VEVENT
DTSTART;VALUE=DATE:20230411
DTEND;VALUE=DATE:20230414
DTSTAMP:20260424T095542
CREATED:20230305T203639Z
LAST-MODIFIED:20230305T203639Z
UID:10000006-1681171200-1681430399@strongheroes.org
SUMMARY:15th Annual Tribal Public Health Conference
DESCRIPTION:In the past 3 years\, there has been a great shift in our communities. As we were met with uncertainty\, we found solutions\, adaptations\, and gained insight to problems we had never faced before. As we traversed through challenges\, we became stronger in new ways. Now\, we can reunite. Celebrating wins and grieving our losses together after our time apart. While we stayed in touch in new ways\, we are able to enjoy and experience the beauty of togetherness again.
URL:https://strongheroes.org/event/15th-annual-tribal-public-health-conference/
LOCATION:Choctaw Casino & Resort\, 4216 US-69\, Durant\, OK\, 74701\, United States
END:VEVENT
BEGIN:VEVENT
DTSTART;TZID=UTC:20230402T080000
DTEND;TZID=UTC:20230404T170000
DTSTAMP:20260424T095542
CREATED:20230305T045156Z
LAST-MODIFIED:20230305T045633Z
UID:10000001-1680422400-1680627600@strongheroes.org
SUMMARY:Summit on Social Determinants of Health
DESCRIPTION:Building the Future of Health Care \nThe RISE Summit on Social Determinants of Health is the place for cross-sectional thought leaders to discuss actionable\, tactical\, and scalable solutions to social determinants of health (SDoH) challenges and achieve better outcomes for the most vulnerable populations.    \n2022 was our biggest year yet with over 500 attendees! \nEach year\, our impressive speaking faculty of industry changemakers arms attendees with the tactical know-how to implement initiatives back at your organization. Plus\, attendees leave with the connections needed to scale their impact as they network and learn from colleagues from every corner of the health care ecosystem. When we all row in the same direction\, we can achieve better outcomes\, lower costs\, and provide a better experience to our populations. Together\, we can achieve health equity. 
URL:https://strongheroes.org/event/summit-on-social-determinants-of-health/
LOCATION:Fairmont Chicago\, Millennium Park\, 200 N Columbus Dr.\, Chicago\, IL\, 60601\, United States
END:VEVENT
BEGIN:VEVENT
DTSTART;VALUE=DATE:20230329
DTEND;VALUE=DATE:20230331
DTSTAMP:20260424T095542
CREATED:20230306T091504Z
LAST-MODIFIED:20230306T091504Z
UID:10000011-1680048000-1680220799@strongheroes.org
SUMMARY:PCMH Health Equity Technical Assistance Symposium
DESCRIPTION:In this 2nd annual event\, participants will have the opportunity to hear about and discuss best practices and lessons learned from peers and experts in the fields of health equity\, quality improvement\, and accreditation/recognition.
URL:https://strongheroes.org/event/pcmh-health-equity-technical-assistance-symposium/
LOCATION:Online
END:VEVENT
BEGIN:VEVENT
DTSTART;VALUE=DATE:20230327
DTEND;VALUE=DATE:20230331
DTSTAMP:20260424T095542
CREATED:20230305T204247Z
LAST-MODIFIED:20230305T204247Z
UID:10000008-1679875200-1680220799@strongheroes.org
SUMMARY:NHMA Annual Conference
DESCRIPTION:Join NHMA for this exclusive opportunity to network\, engage in issues affecting the Hispanic community\, and attend plenary sessions by Hispanic and Latino leaders at the top of their fields. \n\nThe Annual Conference will be attended by over 700 physicians\, health professionals\, corporate and community partners\, public\, business\, academic and civic leaders\, mentees\, members of Congress and students! Topics to be discussed include:\n\n\n\nInnovation through Research and Medical Practice\nSocial Determinants of Health\nMatters Concerning Gender Identity\nScientific Discovery and Advocacy\nImmigrant Healthcare in Communities: The Border and Beyond\nEffects of Long Haul COVID-19\nEpidemic of Gun Violence: Interventions and Solutions\nReproductive Rights and Health Freedoms\n\n\n\nSPECIAL OFFER! For NEW members of NHMA\, 1-year of free membership is now included in conference registration. Current members receive exclusive discounted pricing on all conference registration options. \nFor inquiries\, contact Director of Membership and Chapter Development Yanecia Green at ygreen@nhmamd.org
URL:https://strongheroes.org/event/nhma-annual-conference/
LOCATION:Hyatt Regency Chicago\, 151 East Wacker Drive\, Chicago\, IL\, 60601\, United States
END:VEVENT
BEGIN:VEVENT
DTSTART;VALUE=DATE:20230317
DTEND;VALUE=DATE:20230319
DTSTAMP:20260424T095542
CREATED:20230306T091706Z
LAST-MODIFIED:20230306T091706Z
UID:10000012-1679011200-1679183999@strongheroes.org
SUMMARY:NMQF Leadership Summit
DESCRIPTION:The Annual NMQF Leadership Summit on Health Disparities and Spring Health Braintrust \nThe National Minority Quality Forum established the Annual Summit on Health Disparities to assist health care providers\, professionals\, administrators\, researchers\, policy makers\, community and faith-based organizations in delivering quality care to diverse populations. With nearly 1000 attendees annually\, the Summit has educated thousands of health leaders. \nThis year’s theme for the National Minority Quality Forum’s Annual Leadership Summit on Health Disparities and Spring Health Braintrust is Reimagining Our Healthcare to Protect the Most Vulnerable. Join us April 17-18 for this in-person event featuring leaders across the healthcare equity community! \nHotel Reservations \nTo book your hotel reservation\, visit https://book.passkey.com/e/50492233. Rooms are being held in our NMQF block at a rate of $349 plus taxes per night. The extended hotel reservation cut-off date is Friday\, March 17\, 2023. \nFor questions\, please contact Nina Hines at 2023summitregistrar@nmqf.org. \n**Assumption of the Risk and Waiver of Liability Relating to Coronavirus/COVID-19 \nThe novel coronavirus\, COVID-19\, has been declared a worldwide pandemic by the World Health Organization. COVID-19 is extremely contagious and is believed to spread mainly from person-to-person contact. As a result\, federal\, state\, and local governments and federal and state health agencies recommend social distancing and have\, in many locations\, prohibited the congregation of groups of people. The National Minority Quality Forum has put in place preventative measures to reduce the spread of COVID-19; however\, the National Minority Quality Forum cannot guarantee that you will not become infected with COVID-19. Further\, attending a National Minority Quality Forum event could increase your risk of contracting COVID-19. \nBy registering for this event\, you acknowledge the contagious nature of COVID-19 and voluntarily assume the risk that you may be exposed to or infected by COVID-19 by attending this National Minority Quality Forum event and that such exposure or infection may result in personal injury\, illness\, permanent disability\, and death. You understand that the risk of becoming exposed to or infected by COVID-19 at a National Minority Quality Forum event may result from the actions\, omissions\, or negligence of yourself and others\, including\, but not limited to\, the National Minority Quality Forum staff\, volunteers\, and program participants and venue staff.
URL:https://strongheroes.org/event/nmqf-leadership-summit/
LOCATION:The Watergate Hotel\, 2650 Virginia Ave NW\, Washington\, DC\, 20037\, United States
END:VEVENT
BEGIN:VEVENT
DTSTART;VALUE=DATE:20230315
DTEND;VALUE=DATE:20230318
DTSTAMP:20260424T095542
CREATED:20230306T091305Z
LAST-MODIFIED:20230306T091326Z
UID:10000010-1678838400-1679097599@strongheroes.org
SUMMARY:MATRC Summit
DESCRIPTION:Telehealth Equity:  Is the “Solution” for Addressing Inequities in Health Quality and Access Now Exacerbating those Same Issues?  As telehealth and healthcare become synonymous\, some have been raising red flags. Is what has historically been touted as one of the solutions for addressing disparities in access to quality care turning into a potential driver of such disparities? Some would say that telehealth is built on the existing infrastructures of healthcare and technology\, and thus concerns with telehealth equity are simply reflections of larger systemic issues. Others would say that telehealth enables us to move beyond the existing healthcare infrastructure; thus creating opportunities for more equitable access to quality care. Join us at #MATRC2023 as we examine the technology\, policy and operational best practices and lessons learned that contribute to making telehealth either a facilitator\, enabler or barrier for different populations.  (CEs available for select sessions throughout the Summit  – see schedule for more details. Three tracks available for Summit attendees – General\, Behavioral/Mental Health and Leading Transformation.  Attendees may attend sessions across the three tracks).
URL:https://strongheroes.org/event/matrc-summit/
LOCATION:Hilton Norfolk\, 100 E Main St.\, Norfolk\, 23510\, 23510\, United States
END:VEVENT
BEGIN:VEVENT
DTSTART;VALUE=DATE:20230309
DTEND;VALUE=DATE:20230311
DTSTAMP:20260424T095542
CREATED:20230306T091125Z
LAST-MODIFIED:20230306T091125Z
UID:10000009-1678320000-1678492799@strongheroes.org
SUMMARY:Impacts of Systems on Health Equity
DESCRIPTION:The NAM Culture of Health Program will hold a virtual meeting on March 9 and 10\, 9:00 am-12:30 pm ET. The objectives of this meeting include: \n\nAnnouncing the development of the Systems Impact on Historically and Currently Marginalized Populations publication under the NAM Culture of Health Program.\nDiscussing the significance of understanding the history and systems impact of oppression\, racism\, and widening racial health disparities in light of current social and political contexts.\nHighlighting the social construction of race and ethnicity\, describing the shifting definitions of race and ethnicity over time\, and elevating how existing racial and ethnic definitions can cause harm and misrepresentation of diverse populations.\nDescribing how structural and systemic racism moves through systems to drive health outcomes\, and providing illustrative examples of levers of systemic change for advancing health equity within and across racial and ethnic populations.\nProviding an overview of the publication series and development to date\, and discussing challenges\, opportunities\, and potential impact.
URL:https://strongheroes.org/event/impacts-of-systems-on-health-equity/
END:VEVENT
END:VCALENDAR