BEGIN:VCALENDAR
VERSION:2.0
PRODID:-//Strong Heroes - ECPv6.15.20//NONSGML v1.0//EN
CALSCALE:GREGORIAN
METHOD:PUBLISH
X-ORIGINAL-URL:https://strongheroes.org
X-WR-CALDESC:Events for Strong Heroes
REFRESH-INTERVAL;VALUE=DURATION:PT1H
X-Robots-Tag:noindex
X-PUBLISHED-TTL:PT1H
BEGIN:VTIMEZONE
TZID:UTC
BEGIN:STANDARD
TZOFFSETFROM:+0000
TZOFFSETTO:+0000
TZNAME:UTC
DTSTART:20240101T000000
END:STANDARD
END:VTIMEZONE
BEGIN:VEVENT
DTSTART;TZID=UTC:20250519T080000
DTEND;TZID=UTC:20250520T170000
DTSTAMP:20260423T122342
CREATED:20240326T153845Z
LAST-MODIFIED:20241204T163606Z
UID:10000039-1747641600-1747760400@strongheroes.org
SUMMARY:30th Health Equity Conference
DESCRIPTION:The 30th Health Equity Conference is organized by National Rural Health Association (NRHA) and will be held from May 19 – 20\, 2025 at Atlanta Marriott Marquis\, Atlanta\, Georgia. \n 
URL:https://strongheroes.org/event/30th-health-equity-conference/
LOCATION:Atlanta Marriott Marquis\, 265 Peachtree Center Avenue NE\, Atlanta\, United States
CATEGORIES:Homepage
END:VEVENT
END:VCALENDAR