BEGIN:VCALENDAR
VERSION:2.0
PRODID:-//Strong Heroes - ECPv6.15.20//NONSGML v1.0//EN
CALSCALE:GREGORIAN
METHOD:PUBLISH
X-WR-CALNAME:Strong Heroes
X-ORIGINAL-URL:https://strongheroes.org
X-WR-CALDESC:Events for Strong Heroes
REFRESH-INTERVAL;VALUE=DURATION:PT1H
X-Robots-Tag:noindex
X-PUBLISHED-TTL:PT1H
BEGIN:VTIMEZONE
TZID:UTC
BEGIN:STANDARD
TZOFFSETFROM:+0000
TZOFFSETTO:+0000
TZNAME:UTC
DTSTART:20230101T000000
END:STANDARD
END:VTIMEZONE
BEGIN:VEVENT
DTSTART;TZID=UTC:20240917T080000
DTEND;TZID=UTC:20240919T170000
DTSTAMP:20260423T163522
CREATED:20230926T004211Z
LAST-MODIFIED:20240409T000103Z
UID:10000032-1726560000-1726765200@strongheroes.org
SUMMARY:2024 Women's Health Innovation Summit
DESCRIPTION:The 2024 Women’s Health Innovation Summit will be the venue for you to meet the who’s who in women’s health innovation and health equity. Sector specific audiences enable aligned networking with like-minded leaders to boost partnership opportunities. The three-tracked agenda approach enables participants to tailor your experience to meet your specific business needs.
URL:https://strongheroes.org/event/2024-womens-health-innovation-summit/
LOCATION:Boston\, MA\, Boston\, MA\, United States
CATEGORIES:Homepage
END:VEVENT
END:VCALENDAR