BEGIN:VCALENDAR
VERSION:2.0
PRODID:-//Strong Heroes - ECPv6.15.20//NONSGML v1.0//EN
CALSCALE:GREGORIAN
METHOD:PUBLISH
X-ORIGINAL-URL:https://strongheroes.org
X-WR-CALDESC:Events for Strong Heroes
REFRESH-INTERVAL;VALUE=DURATION:PT1H
X-Robots-Tag:noindex
X-PUBLISHED-TTL:PT1H
BEGIN:VTIMEZONE
TZID:UTC
BEGIN:STANDARD
TZOFFSETFROM:+0000
TZOFFSETTO:+0000
TZNAME:UTC
DTSTART:20230101T000000
END:STANDARD
END:VTIMEZONE
BEGIN:VEVENT
DTSTART;TZID=UTC:20240716T080000
DTEND;TZID=UTC:20240717T170000
DTSTAMP:20260423T180701
CREATED:20240323T182527Z
LAST-MODIFIED:20240323T182527Z
UID:10000036-1721116800-1721235600@strongheroes.org
SUMMARY:State Rural Health Association Leadership Conference
DESCRIPTION:With a 2024 focus on Health Equity\, the NRHA-sponsored State Rural Health Association (SRHA) Leadership Conference provides an opportunity for state rural health association leaders to learn from each other and develop skills for achieving the goals of their own state association.
URL:https://strongheroes.org/event/state-rural-health-association-leadership-conference/
LOCATION:Hilton Portland Downtown\, 921 SW Sixth Avenue\, Portland\, OR\, 97204\, United States
END:VEVENT
END:VCALENDAR