BEGIN:VCALENDAR
VERSION:2.0
PRODID:-//Strong Heroes - ECPv6.15.20//NONSGML v1.0//EN
CALSCALE:GREGORIAN
METHOD:PUBLISH
X-WR-CALNAME:Strong Heroes
X-ORIGINAL-URL:https://strongheroes.org
X-WR-CALDESC:Events for Strong Heroes
REFRESH-INTERVAL;VALUE=DURATION:PT1H
X-Robots-Tag:noindex
X-PUBLISHED-TTL:PT1H
BEGIN:VTIMEZONE
TZID:UTC
BEGIN:STANDARD
TZOFFSETFROM:+0000
TZOFFSETTO:+0000
TZNAME:UTC
DTSTART:20230101T000000
END:STANDARD
END:VTIMEZONE
BEGIN:VEVENT
DTSTART;TZID=UTC:20240515T080000
DTEND;TZID=UTC:20240516T170000
DTSTAMP:20260424T111904
CREATED:20230926T003558Z
LAST-MODIFIED:20230926T003558Z
UID:10000031-1715760000-1715878800@strongheroes.org
SUMMARY:10th Annual SDoH & Health Equity Innovations Summit
DESCRIPTION:Join providers\, physician groups\, health plans\, community-based organizations\, policy makers and other health equity advocates for the Summit focused on (i) Changing affordable housing systems to support the health of marginalized communities; (ii) Adopting effective food insecurity strategies and Medically-Tailored Meals (MTM) for long term and sustainable outcomes; (iii) Actionable strategies to eradicate health disparities among diverse populations; (iv) Complying with the latest regulations and policy shifts shaping SDoH; and much more.
URL:https://strongheroes.org/event/10th-annual-sdoh-health-equity-innovations-summit/
LOCATION:Rosen Centre\, 9840 International Drive\, Orlando\, FL\, 32819\, United States
END:VEVENT
END:VCALENDAR