BEGIN:VCALENDAR
VERSION:2.0
PRODID:-//Strong Heroes - ECPv6.15.20//NONSGML v1.0//EN
CALSCALE:GREGORIAN
METHOD:PUBLISH
X-WR-CALNAME:Strong Heroes
X-ORIGINAL-URL:https://strongheroes.org
X-WR-CALDESC:Events for Strong Heroes
REFRESH-INTERVAL;VALUE=DURATION:PT1H
X-Robots-Tag:noindex
X-PUBLISHED-TTL:PT1H
BEGIN:VTIMEZONE
TZID:UTC
BEGIN:STANDARD
TZOFFSETFROM:+0000
TZOFFSETTO:+0000
TZNAME:UTC
DTSTART:20230101T000000
END:STANDARD
END:VTIMEZONE
BEGIN:VEVENT
DTSTART;TZID=UTC:20240604T080000
DTEND;TZID=UTC:20240606T170000
DTSTAMP:20260424T112641
CREATED:20240323T181551Z
LAST-MODIFIED:20240323T181551Z
UID:10000035-1717488000-1717693200@strongheroes.org
SUMMARY:Elevating Mental Health Equity
DESCRIPTION:The 2024 NAMI Conference on “Elevating Mental Health Equity” is where hundreds of dynamic and important voices will unite to improve mental health for all through mental health awareness\, education and advocacy. It’s where personal journeys are celebrated\, positive change takes root\, and new connections and community cultivate a safe space\, fostering support\, hope\, and healing.
URL:https://strongheroes.org/event/elevating-mental-health-equity/
LOCATION:Sheraton Downtown Denver Hotel\, 1550 Court Place\, Denver\, 80202\, United States
END:VEVENT
END:VCALENDAR